BEGIN:VCALENDAR
VERSION:2.0
PRODID:-//Visit Van Wert - ECPv6.15.14//NONSGML v1.0//EN
CALSCALE:GREGORIAN
METHOD:PUBLISH
X-WR-CALNAME:Visit Van Wert
X-ORIGINAL-URL:https://visitvanwert.com
X-WR-CALDESC:Events for Visit Van Wert
REFRESH-INTERVAL;VALUE=DURATION:PT1H
X-Robots-Tag:noindex
X-PUBLISHED-TTL:PT1H
BEGIN:VTIMEZONE
TZID:UTC
BEGIN:STANDARD
TZOFFSETFROM:+0000
TZOFFSETTO:+0000
TZNAME:UTC
DTSTART:20250101T000000
END:STANDARD
END:VTIMEZONE
BEGIN:VEVENT
DTSTART;TZID=UTC:20260627T090000
DTEND;TZID=UTC:20260627T120000
DTSTAMP:20260423T194313
CREATED:20260423T155102Z
LAST-MODIFIED:20260423T155102Z
UID:5768-1782550800-1782561600@visitvanwert.com
SUMMARY:Farmers Market Day (every Saturday starting 6/27 - 9/19)
DESCRIPTION:Look for the signs that lead to fresh produce and homespun delicious foods inside Van Wert County Fairgrounds.
URL:https://visitvanwert.com/event/farmers-market-day-every-saturday-starting-6-27-9-19/
LOCATION:Van Wert County Fairgrounds\, 1055 S. Washington St.\, Van Wert\, Ohio\, 45891
ATTACH;FMTTYPE=image/jpeg:https://visitvanwert.com/wp-content/uploads/2025/06/Farmers-Market-2025.jpg
END:VEVENT
END:VCALENDAR