BEGIN:VCALENDAR
VERSION:2.0
PRODID:-//Visit Van Wert - ECPv6.15.14//NONSGML v1.0//EN
CALSCALE:GREGORIAN
METHOD:PUBLISH
X-WR-CALNAME:Visit Van Wert
X-ORIGINAL-URL:https://visitvanwert.com
X-WR-CALDESC:Events for Visit Van Wert
REFRESH-INTERVAL;VALUE=DURATION:PT1H
X-Robots-Tag:noindex
X-PUBLISHED-TTL:PT1H
BEGIN:VTIMEZONE
TZID:UTC
BEGIN:STANDARD
TZOFFSETFROM:+0000
TZOFFSETTO:+0000
TZNAME:UTC
DTSTART:20240101T000000
END:STANDARD
END:VTIMEZONE
BEGIN:VEVENT
DTSTART;TZID=UTC:20250718T190000
DTEND;TZID=UTC:20250718T210000
DTSTAMP:20260419T152029
CREATED:20250611T190459Z
LAST-MODIFIED:20250611T190459Z
UID:4711-1752865200-1752872400@visitvanwert.com
SUMMARY:Feel Good Friday in Fountain Park\, Earth to Mars (Bruno Mars)
DESCRIPTION:If you like Bruno Mars music\, you will love this Feel Good Friday!
URL:https://visitvanwert.com/event/feel-good-friday-in-fountain-park-earth-to-mars-bruno-mars/
LOCATION:Fountain Park\, Van Wert\, Ohio\, 45891
ATTACH;FMTTYPE=image/webp:https://visitvanwert.com/wp-content/uploads/2025/06/Van-Wert-LIVE-Earth-to-Mars.webp
END:VEVENT
END:VCALENDAR