BEGIN:VCALENDAR
VERSION:2.0
PRODID:-//Visit Van Wert - ECPv6.15.14//NONSGML v1.0//EN
CALSCALE:GREGORIAN
METHOD:PUBLISH
X-WR-CALNAME:Visit Van Wert
X-ORIGINAL-URL:https://visitvanwert.com
X-WR-CALDESC:Events for Visit Van Wert
REFRESH-INTERVAL;VALUE=DURATION:PT1H
X-Robots-Tag:noindex
X-PUBLISHED-TTL:PT1H
BEGIN:VTIMEZONE
TZID:UTC
BEGIN:STANDARD
TZOFFSETFROM:+0000
TZOFFSETTO:+0000
TZNAME:UTC
DTSTART:20240101T000000
END:STANDARD
END:VTIMEZONE
BEGIN:VEVENT
DTSTART;TZID=UTC:20251017T090000
DTEND;TZID=UTC:20251018T170000
DTSTAMP:20260423T100453
CREATED:20250408T185221Z
LAST-MODIFIED:20250408T185221Z
UID:4394-1760691600-1760806800@visitvanwert.com
SUMMARY:Harvest Happenings\, Apple Festival\, Dairy Emporium @ VWCFairgrounds
DESCRIPTION:Three festivals all in place! Please and Thank you!
URL:https://visitvanwert.com/event/harvest-happenings-apple-festival-dairy-emporium-vwcfairgrounds/
ATTACH;FMTTYPE=image/png:https://visitvanwert.com/wp-content/uploads/2025/04/Harvest-Happenings-2025.png
END:VEVENT
END:VCALENDAR