BEGIN:VCALENDAR
VERSION:2.0
PRODID:-//Visit Van Wert - ECPv6.15.14//NONSGML v1.0//EN
CALSCALE:GREGORIAN
METHOD:PUBLISH
X-WR-CALNAME:Visit Van Wert
X-ORIGINAL-URL:https://visitvanwert.com
X-WR-CALDESC:Events for Visit Van Wert
REFRESH-INTERVAL;VALUE=DURATION:PT1H
X-Robots-Tag:noindex
X-PUBLISHED-TTL:PT1H
BEGIN:VTIMEZONE
TZID:UTC
BEGIN:STANDARD
TZOFFSETFROM:+0000
TZOFFSETTO:+0000
TZNAME:UTC
DTSTART:20250101T000000
END:STANDARD
END:VTIMEZONE
BEGIN:VEVENT
DTSTART;TZID=UTC:20260502T170000
DTEND;TZID=UTC:20260502T203000
DTSTAMP:20260423T182553
CREATED:20260423T155416Z
LAST-MODIFIED:20260423T155416Z
UID:5770-1777741200-1777753800@visitvanwert.com
SUMMARY:Old Fashioned Farmer's Cruise In Car Show
DESCRIPTION:You’ve seen these in pictures and magazines\, but now you can see these retro cars in person inside the VW County Fairgrounds.
URL:https://visitvanwert.com/event/old-fashioned-farmers-cruise-in-car-show/
LOCATION:Van Wert County Fairgrounds\, 1055 S. Washington St.\, Van Wert\, Ohio\, 45891
ATTACH;FMTTYPE=image/jpeg:https://visitvanwert.com/wp-content/uploads/2026/04/Car-Show-July-2-e1776959645181.jpg
END:VEVENT
END:VCALENDAR