BEGIN:VCALENDAR
VERSION:2.0
PRODID:-//Visit Van Wert - ECPv6.15.14//NONSGML v1.0//EN
CALSCALE:GREGORIAN
METHOD:PUBLISH
X-WR-CALNAME:Visit Van Wert
X-ORIGINAL-URL:https://visitvanwert.com
X-WR-CALDESC:Events for Visit Van Wert
REFRESH-INTERVAL;VALUE=DURATION:PT1H
X-Robots-Tag:noindex
X-PUBLISHED-TTL:PT1H
BEGIN:VTIMEZONE
TZID:UTC
BEGIN:STANDARD
TZOFFSETFROM:+0000
TZOFFSETTO:+0000
TZNAME:UTC
DTSTART:20250101T000000
END:STANDARD
END:VTIMEZONE
BEGIN:VEVENT
DTSTART;TZID=UTC:20260607T140000
DTEND;TZID=UTC:20260607T160000
DTSTAMP:20260423T213834
CREATED:20260423T154322Z
LAST-MODIFIED:20260423T154322Z
UID:5761-1780840800-1780848000@visitvanwert.com
SUMMARY:Van Wert Civic Theatre presents "Murder on the Monkey Express"
DESCRIPTION:
URL:https://visitvanwert.com/event/van-wert-civic-theatre-presents-murder-on-the-monkey-express/
LOCATION:Van Wert Civic Theatre\, 118 Race St.\, Van Wert\, Ohio\, 45891
ATTACH;FMTTYPE=image/jpeg:https://visitvanwert.com/wp-content/uploads/2026/04/murder-on-the-monkey-express-1.jpg
END:VEVENT
END:VCALENDAR