BEGIN:VCALENDAR
VERSION:2.0
PRODID:-//Visit Van Wert - ECPv6.15.14//NONSGML v1.0//EN
CALSCALE:GREGORIAN
METHOD:PUBLISH
X-WR-CALNAME:Visit Van Wert
X-ORIGINAL-URL:https://visitvanwert.com
X-WR-CALDESC:Events for Visit Van Wert
REFRESH-INTERVAL;VALUE=DURATION:PT1H
X-Robots-Tag:noindex
X-PUBLISHED-TTL:PT1H
BEGIN:VTIMEZONE
TZID:UTC
BEGIN:STANDARD
TZOFFSETFROM:+0000
TZOFFSETTO:+0000
TZNAME:UTC
DTSTART:20240101T000000
END:STANDARD
END:VTIMEZONE
BEGIN:VEVENT
DTSTART;TZID=UTC:20250704T193000
DTEND;TZID=UTC:20250704T210000
DTSTAMP:20260421T082411
CREATED:20250505T155306Z
LAST-MODIFIED:20250505T155505Z
UID:4587-1751657400-1751662800@visitvanwert.com
SUMMARY:Van Wert LIVE presents The Mermen @ Fountain Park
DESCRIPTION:This weekend is definitely for the little kids in your life!
URL:https://visitvanwert.com/event/van-wert-live-presents-the-mermen-fountain-park/
LOCATION:Fountain Park\, Van Wert\, Ohio\, 45891
ATTACH;FMTTYPE=image/webp:https://visitvanwert.com/wp-content/uploads/2025/05/Van-Wert-LIVE-The-Mermen.webp
END:VEVENT
END:VCALENDAR