BEGIN:VCALENDAR
VERSION:2.0
PRODID:-//Visit Van Wert - ECPv6.15.14//NONSGML v1.0//EN
CALSCALE:GREGORIAN
METHOD:PUBLISH
X-WR-CALNAME:Visit Van Wert
X-ORIGINAL-URL:https://visitvanwert.com
X-WR-CALDESC:Events for Visit Van Wert
REFRESH-INTERVAL;VALUE=DURATION:PT1H
X-Robots-Tag:noindex
X-PUBLISHED-TTL:PT1H
BEGIN:VTIMEZONE
TZID:UTC
BEGIN:STANDARD
TZOFFSETFROM:+0000
TZOFFSETTO:+0000
TZNAME:UTC
DTSTART:20250101T000000
END:STANDARD
END:VTIMEZONE
BEGIN:VEVENT
DTSTART;TZID=UTC:20260310T173000
DTEND;TZID=UTC:20260310T193000
DTSTAMP:20260425T113836
CREATED:20260227T184632Z
LAST-MODIFIED:20260227T184632Z
UID:5539-1773163800-1773171000@visitvanwert.com
SUMMARY:VWAED Business Boot Camp held at Northwest State Community College
DESCRIPTION:
URL:https://visitvanwert.com/event/vwaed-business-boot-camp-held-at-northwest-state-community-college/
LOCATION:Northwest State Community College\, 520 N. Sycamore St.\, Van Wert\, OH\, 45891\, United States
ATTACH;FMTTYPE=image/jpeg:https://visitvanwert.com/wp-content/uploads/2026/01/Business-Bootcamp-Workshop-2026.jpg
END:VEVENT
END:VCALENDAR