BEGIN:VCALENDAR
VERSION:2.0
PRODID:-//Visit Van Wert - ECPv6.15.14//NONSGML v1.0//EN
CALSCALE:GREGORIAN
METHOD:PUBLISH
X-WR-CALNAME:Visit Van Wert
X-ORIGINAL-URL:https://visitvanwert.com
X-WR-CALDESC:Events for Visit Van Wert
REFRESH-INTERVAL;VALUE=DURATION:PT1H
X-Robots-Tag:noindex
X-PUBLISHED-TTL:PT1H
BEGIN:VTIMEZONE
TZID:UTC
BEGIN:STANDARD
TZOFFSETFROM:+0000
TZOFFSETTO:+0000
TZNAME:UTC
DTSTART:20240101T000000
END:STANDARD
END:VTIMEZONE
BEGIN:VEVENT
DTSTART;TZID=UTC:20250503T160000
DTEND;TZID=UTC:20250503T190000
DTSTAMP:20260421T093509
CREATED:20250327T162317Z
LAST-MODIFIED:20250327T162317Z
UID:10000034-1746288000-1746298800@visitvanwert.com
SUMMARY:Kentucky Derby Run for the Roses @ The Warehouse
DESCRIPTION:The hats\, the horses\, the hoorays on May 3rd will be more than the two-minute races. Join the three-hour fun at The Warehouse in downtown Van Wert and watch the winner.
URL:https://visitvanwert.com/event/kentucky-derby-run-for-the-roses-the-warehouse/
LOCATION:The Warehouse\, 108 N. Washington St.\, Van Wert\, Ohio\, 45891\, United States
ATTACH;FMTTYPE=image/png:https://visitvanwert.com/wp-content/uploads/2025/03/Screenshot-32.png
END:VEVENT
BEGIN:VEVENT
DTSTART;TZID=UTC:20250503T193000
DTEND;TZID=UTC:20250503T210000
DTSTAMP:20260421T093509
CREATED:20250317T171513Z
LAST-MODIFIED:20250317T171513Z
UID:10000019-1746300600-1746306000@visitvanwert.com
SUMMARY:Van Wert Civic Theatre presents The Play that Goes Wrong
DESCRIPTION:
URL:https://visitvanwert.com/event/van-wert-civic-theatre-presents-the-play-that-goes-wrong-3/
LOCATION:Van Wert Civic Theatre\, 118 Race St.\, Van Wert\, Ohio\, 45891
ATTACH;FMTTYPE=image/png:https://visitvanwert.com/wp-content/uploads/2024/10/VWCT-A-Christmas-Carol-2024.png
END:VEVENT
END:VCALENDAR