BEGIN:VCALENDAR
VERSION:2.0
PRODID:-//Visit Van Wert - ECPv6.15.14//NONSGML v1.0//EN
CALSCALE:GREGORIAN
METHOD:PUBLISH
X-WR-CALNAME:Visit Van Wert
X-ORIGINAL-URL:https://visitvanwert.com
X-WR-CALDESC:Events for Visit Van Wert
REFRESH-INTERVAL;VALUE=DURATION:PT1H
X-Robots-Tag:noindex
X-PUBLISHED-TTL:PT1H
BEGIN:VTIMEZONE
TZID:UTC
BEGIN:STANDARD
TZOFFSETFROM:+0000
TZOFFSETTO:+0000
TZNAME:UTC
DTSTART:20240101T000000
END:STANDARD
END:VTIMEZONE
BEGIN:VEVENT
DTSTART;TZID=UTC:20250517T100000
DTEND;TZID=UTC:20250517T110000
DTSTAMP:20260421T110108
CREATED:20250505T141034Z
LAST-MODIFIED:20250505T141034Z
UID:10000077-1747476000-1747479600@visitvanwert.com
SUMMARY:Acrylics Class at The Wassenberg Art Center
DESCRIPTION:Acrylics and Peonies in one place. Just in time before our Peony Festival.
URL:https://visitvanwert.com/event/acrylics-class-at-the-wassenberg-art-center/
LOCATION:Wassenberg Art Center\, 214 S. Washington St.\, Van Wert\, Ohio\, 45891
ATTACH;FMTTYPE=image/jpeg:https://visitvanwert.com/wp-content/uploads/2025/05/Wassenberg-Acrylics.jpg
END:VEVENT
BEGIN:VEVENT
DTSTART;TZID=UTC:20250517T100000
DTEND;TZID=UTC:20250517T150000
DTSTAMP:20260421T110108
CREATED:20250327T165251Z
LAST-MODIFIED:20250327T165438Z
UID:10000038-1747476000-1747494000@visitvanwert.com
SUMMARY:Stitches in Bloom held at The Convoy Opera House
DESCRIPTION:
URL:https://visitvanwert.com/event/stitches-in-bloom-held-at-the-convoy-opera-house/
LOCATION:Convoy Opera House\, 111 S. Main St.\, Van Wert\, OH\, 45891\, United States
ATTACH;FMTTYPE=image/jpeg:https://visitvanwert.com/wp-content/uploads/2025/03/Convoy-Quilt-Show.jpg
END:VEVENT
BEGIN:VEVENT
DTSTART;TZID=UTC:20250517T173000
DTEND;TZID=UTC:20250517T230000
DTSTAMP:20260421T110108
CREATED:20250505T152018Z
LAST-MODIFIED:20250505T152018Z
UID:10000081-1747503000-1747522800@visitvanwert.com
SUMMARY:Catfish Tournament hosted by VW Parks & Rec held at Reservoirs
DESCRIPTION:The fish are calling\, grab a pole and good luck!
URL:https://visitvanwert.com/event/catfish-tournament-hosted-by-vw-parks-rec-held-at-reservoirs/
LOCATION:Van Wert Reservoirs\, St. Rt. 127\, Van Wert\, OH\, 45891\, United States
ATTACH;FMTTYPE=image/jpeg:https://visitvanwert.com/wp-content/uploads/2025/05/VW-Parks-Catfish-Tournament-May-17.jpg
END:VEVENT
END:VCALENDAR