BEGIN:VCALENDAR
VERSION:2.0
PRODID:-//Visit Van Wert - ECPv6.15.14//NONSGML v1.0//EN
CALSCALE:GREGORIAN
METHOD:PUBLISH
X-ORIGINAL-URL:https://visitvanwert.com
X-WR-CALDESC:Events for Visit Van Wert
REFRESH-INTERVAL;VALUE=DURATION:PT1H
X-Robots-Tag:noindex
X-PUBLISHED-TTL:PT1H
BEGIN:VTIMEZONE
TZID:UTC
BEGIN:STANDARD
TZOFFSETFROM:+0000
TZOFFSETTO:+0000
TZNAME:UTC
DTSTART:20240101T000000
END:STANDARD
END:VTIMEZONE
BEGIN:VEVENT
DTSTART;TZID=UTC:20250714T093000
DTEND;TZID=UTC:20250716T110000
DTSTAMP:20260419T212913
CREATED:20250611T184910Z
LAST-MODIFIED:20250611T184910Z
UID:10000117-1752485400-1752663600@visitvanwert.com
SUMMARY:Hickory Sticks Golf Clinic AGES 7-9 (Registration helpful)
DESCRIPTION:Two different clinics for two different age groups! Register now
URL:https://visitvanwert.com/event/hickory-sticks-golf-clinic-ages-7-9-registration-helpful/
LOCATION:Hickory Sticks\, 12083 US Rt. 127\, Van Wert\, OH\, 45891\, United States
ATTACH;FMTTYPE=image/jpeg:https://visitvanwert.com/wp-content/uploads/2025/06/Hickory-Sticks-Golf-Clinic.jpg
END:VEVENT
END:VCALENDAR