BEGIN:VCALENDAR
VERSION:2.0
PRODID:-//Visit Van Wert - ECPv6.15.14//NONSGML v1.0//EN
CALSCALE:GREGORIAN
METHOD:PUBLISH
X-ORIGINAL-URL:https://visitvanwert.com
X-WR-CALDESC:Events for Visit Van Wert
REFRESH-INTERVAL;VALUE=DURATION:PT1H
X-Robots-Tag:noindex
X-PUBLISHED-TTL:PT1H
BEGIN:VTIMEZONE
TZID:UTC
BEGIN:STANDARD
TZOFFSETFROM:+0000
TZOFFSETTO:+0000
TZNAME:UTC
DTSTART:20240101T000000
END:STANDARD
END:VTIMEZONE
BEGIN:VEVENT
DTSTART;TZID=UTC:20250718T120000
DTEND;TZID=UTC:20250720T160000
DTSTAMP:20260421T120406
CREATED:20250317T172642Z
LAST-MODIFIED:20250317T172642Z
UID:10000027-1752840000-1753027200@visitvanwert.com
SUMMARY:Ohio City Lambert Days
DESCRIPTION:
URL:https://visitvanwert.com/event/ohio-city-lambert-days/
LOCATION:Ohio City Ohio
ATTACH;FMTTYPE=image/png:https://visitvanwert.com/wp-content/uploads/2023/07/Ohio-City-Lambert-Days-1.png
END:VEVENT
END:VCALENDAR