BEGIN:VCALENDAR
VERSION:2.0
PRODID:-//Visit Van Wert - ECPv6.15.14//NONSGML v1.0//EN
CALSCALE:GREGORIAN
METHOD:PUBLISH
X-ORIGINAL-URL:https://visitvanwert.com
X-WR-CALDESC:Events for Visit Van Wert
REFRESH-INTERVAL;VALUE=DURATION:PT1H
X-Robots-Tag:noindex
X-PUBLISHED-TTL:PT1H
BEGIN:VTIMEZONE
TZID:UTC
BEGIN:STANDARD
TZOFFSETFROM:+0000
TZOFFSETTO:+0000
TZNAME:UTC
DTSTART:20240101T000000
END:STANDARD
END:VTIMEZONE
BEGIN:VEVENT
DTSTART;VALUE=DATE:20250801
DTEND;VALUE=DATE:20250802
DTSTAMP:20260421T123538
CREATED:20250718T130236Z
LAST-MODIFIED:20250718T130236Z
UID:10000757-1754006400-1754092799@visitvanwert.com
SUMMARY:The Well Nutrition 5th Birthday
DESCRIPTION:
URL:https://visitvanwert.com/event/the-well-nutrition-5th-birthday/
LOCATION:The Well Nutrition\, 109 S Washington St\, Van Wert\, OH\, 45891\, United States
ATTACH;FMTTYPE=image/jpeg:https://visitvanwert.com/wp-content/uploads/2025/07/The-Wells-fifth-birthday.jpg
END:VEVENT
BEGIN:VEVENT
DTSTART;TZID=UTC:20250801T193000
DTEND;TZID=UTC:20250801T210000
DTSTAMP:20260421T123538
CREATED:20250505T160528Z
LAST-MODIFIED:20250505T160528Z
UID:10000090-1754076600-1754082000@visitvanwert.com
SUMMARY:Van Wert LIVE presents Lightning Express\, The Everly Brothers Experience
DESCRIPTION:
URL:https://visitvanwert.com/event/van-wert-live-presents-lightning-express-the-everly-brothers-experience/
LOCATION:Fountain Park\, Van Wert\, Ohio\, 45891
ATTACH;FMTTYPE=image/webp:https://visitvanwert.com/wp-content/uploads/2025/05/Van-Wert-LIVE-Lightning-Express-The-Everly-Brothers.webp
END:VEVENT
END:VCALENDAR