BEGIN:VCALENDAR
VERSION:2.0
PRODID:-//Visit Van Wert - ECPv6.15.14//NONSGML v1.0//EN
CALSCALE:GREGORIAN
METHOD:PUBLISH
X-WR-CALNAME:Visit Van Wert
X-ORIGINAL-URL:https://visitvanwert.com
X-WR-CALDESC:Events for Visit Van Wert
REFRESH-INTERVAL;VALUE=DURATION:PT1H
X-Robots-Tag:noindex
X-PUBLISHED-TTL:PT1H
BEGIN:VTIMEZONE
TZID:UTC
BEGIN:STANDARD
TZOFFSETFROM:+0000
TZOFFSETTO:+0000
TZNAME:UTC
DTSTART:20240101T000000
END:STANDARD
END:VTIMEZONE
BEGIN:VEVENT
DTSTART;TZID=UTC:20251107T080000
DTEND;TZID=UTC:20251109T170000
DTSTAMP:20260423T082401
CREATED:20251022T182046Z
LAST-MODIFIED:20251022T182046Z
UID:10002021-1762502400-1762707600@visitvanwert.com
SUMMARY:Secret Garden Floral/Gifts Holiday Open House Nov. 7\,8\,9
DESCRIPTION:Yes\, its time! Enjoy the sights and sounds of downtown Convoy during the beautiful Open House planned at Secret Garden Floral and Gifts.\nHours vary\, please see the website for each day details.
URL:https://visitvanwert.com/event/secret-garden-floral-gifts-holiday-open-house-nov-789/
LOCATION:Secret Garden Florals and Gifts\, 109 W. Tully St.\, Convoy\, OH\, OH\, 45832\, United States
ATTACH;FMTTYPE=image/jpeg:https://visitvanwert.com/wp-content/uploads/2023/12/Christmas-misc.jpg
END:VEVENT
BEGIN:VEVENT
DTSTART;TZID=UTC:20251107T080000
DTEND;TZID=UTC:20251109T170000
DTSTAMP:20260423T082401
CREATED:20251022T184649Z
LAST-MODIFIED:20251022T184649Z
UID:10002022-1762502400-1762707600@visitvanwert.com
SUMMARY:Laurie's Naturescapes Holiday Open House
DESCRIPTION:Laurie’s Naturescapes has three full days of beautiful holiday decor\, gifts and more!  Please check their website for updated hours and detail.
URL:https://visitvanwert.com/event/lauries-naturescapes-holiday-open-house/
LOCATION:Laurie’s Naturescapes\, 12368 St. Rt. 118\, Van Wert\,\, OH\, 45891
ATTACH;FMTTYPE=image/jpeg:https://visitvanwert.com/wp-content/uploads/2025/10/Lauries-Naturescapes-Holiday-Open-House.jpg
END:VEVENT
END:VCALENDAR