BEGIN:VCALENDAR
VERSION:2.0
PRODID:-//Visit Van Wert - ECPv6.15.14//NONSGML v1.0//EN
CALSCALE:GREGORIAN
METHOD:PUBLISH
X-ORIGINAL-URL:https://visitvanwert.com
X-WR-CALDESC:Events for Visit Van Wert
REFRESH-INTERVAL;VALUE=DURATION:PT1H
X-Robots-Tag:noindex
X-PUBLISHED-TTL:PT1H
BEGIN:VTIMEZONE
TZID:UTC
BEGIN:STANDARD
TZOFFSETFROM:+0000
TZOFFSETTO:+0000
TZNAME:UTC
DTSTART:20240101T000000
END:STANDARD
END:VTIMEZONE
BEGIN:VEVENT
DTSTART;TZID=UTC:20251126T180000
DTEND;TZID=UTC:20251225T210000
DTSTAMP:20260423T070835
CREATED:20251022T190709Z
LAST-MODIFIED:20251022T190709Z
UID:10002024-1764180000-1766696400@visitvanwert.com
SUMMARY:4-H Exchange Club Holiday Lights Show
DESCRIPTION:Gas up the car\, get the family ready for LIGHTS ON at 6:00 p.m. Fountain Park will be ready!
URL:https://visitvanwert.com/event/4-h-exchange-club-holiday-lights-show/
LOCATION:Van Wert County Fairgrounds\, 1055 S. Washington St.\, Van Wert\, Ohio\, 45891
ATTACH;FMTTYPE=image/jpeg:https://visitvanwert.com/wp-content/uploads/2025/10/4-H-Exchange-Club-Holiday-Light-Show.jpg
END:VEVENT
BEGIN:VEVENT
DTSTART;TZID=UTC:20251129T090000
DTEND;TZID=UTC:20251220T140000
DTSTAMP:20260423T070835
CREATED:20251112T203334Z
LAST-MODIFIED:20251112T203450Z
UID:10002054-1764406800-1766239200@visitvanwert.com
SUMMARY:Holiday Market on Main Street Van Wert
DESCRIPTION:
URL:https://visitvanwert.com/event/holiday-market-on-main-street-van-wert/
LOCATION:Main Street\, 136 E. Main Street\, Van Wert\, OH\, 45891\, United States
ATTACH;FMTTYPE=image/jpeg:https://visitvanwert.com/wp-content/uploads/2025/11/Main-Street-Van-Wert-Holiday-Market.jpg
END:VEVENT
BEGIN:VEVENT
DTSTART;TZID=UTC:20251204T170000
DTEND;TZID=UTC:20251204T190000
DTSTAMP:20260423T070835
CREATED:20251106T144335Z
LAST-MODIFIED:20251106T144335Z
UID:10002026-1764867600-1764874800@visitvanwert.com
SUMMARY:VWHS Art Club presents Crafting Christmas
DESCRIPTION:Spend some time doing something new this season with options with help from the Art Club at VWHS.  Glazing a Ceramic Christmas Tree Luminary \, Glazing a Ceramic Cougar Paw Ornament\, Direct Instruction Snowman Painting.\nRegister now!
URL:https://visitvanwert.com/event/vwhs-art-club-presents-crafting-christmas/
LOCATION:Van Wert High School\, 10992 State Route 118\, Van Wert\, OH\, 45891\, United States
ATTACH;FMTTYPE=image/png:https://visitvanwert.com/wp-content/uploads/2025/11/VWHS-Christmas-Crafting-Day-.png
END:VEVENT
BEGIN:VEVENT
DTSTART;TZID=UTC:20251204T173000
DTEND;TZID=UTC:20251204T203000
DTSTAMP:20260423T070835
CREATED:20251125T203159Z
LAST-MODIFIED:20251125T203159Z
UID:10002117-1764869400-1764880200@visitvanwert.com
SUMMARY:Wassenberg Art Center Beginner Stained Glass Workshop
DESCRIPTION:
URL:https://visitvanwert.com/event/wassenberg-art-center-beginner-stained-glass-workshop/
LOCATION:Wassenberg Art Center\, 214 S. Washington St.\, Van Wert\, Ohio\, 45891
ATTACH;FMTTYPE=image/png:https://visitvanwert.com/wp-content/uploads/2025/11/Screenshot-78.png
END:VEVENT
BEGIN:VEVENT
DTSTART;TZID=UTC:20251204T183000
DTEND;TZID=UTC:20251204T193000
DTSTAMP:20260423T070835
CREATED:20251125T195718Z
LAST-MODIFIED:20251125T195718Z
UID:10002116-1764873000-1764876600@visitvanwert.com
SUMMARY:Wassenberg Art Center Adult Artreach Holiday Art Therapy
DESCRIPTION:
URL:https://visitvanwert.com/event/wassenberg-art-center-adult-artreach-holiday-art-therapy/
LOCATION:Wassenberg Art Center\, 214 S. Washington St.\, Van Wert\, Ohio\, 45891
ATTACH;FMTTYPE=image/png:https://visitvanwert.com/wp-content/uploads/2025/11/Screenshot-78.png
END:VEVENT
BEGIN:VEVENT
DTSTART;TZID=UTC:20251204T193000
DTEND;TZID=UTC:20251204T213000
DTSTAMP:20260423T070835
CREATED:20250625T141148Z
LAST-MODIFIED:20251112T163436Z
UID:10000129-1764876600-1764883800@visitvanwert.com
SUMMARY:VWCT presents One Christmas Eve at Evergreen Mall
DESCRIPTION:One Christmas Eve at Evergreen Mall serves up hilarious holiday chaos in eight intertwined stories. From a lovesick Santa to an overzealous mall cop\, the play hilariously captures Christmas Eve’s frantic energy. Expect laugh-out-loud moments and surprising connections as diverse characters navigate the mall’s festive mayhem. This charming comedy offers a relatable\, joyfully silly glimpse into the season\, where unexpected connections highlight the heart of the holidays.
URL:https://visitvanwert.com/event/vwct-presents-one-christmas-eve-at-evergreen-mall/2025-12-04/
LOCATION:Van Wert Civic Theatre\, 118 Race St.\, Van Wert\, Ohio\, 45891
ATTACH;FMTTYPE=image/webp:https://visitvanwert.com/wp-content/uploads/2025/06/One-Christmas-Eve-at-Evergreen-Mall.webp
END:VEVENT
END:VCALENDAR