BEGIN:VCALENDAR
VERSION:2.0
PRODID:-//Visit Van Wert - ECPv6.15.14//NONSGML v1.0//EN
CALSCALE:GREGORIAN
METHOD:PUBLISH
X-WR-CALNAME:Visit Van Wert
X-ORIGINAL-URL:https://visitvanwert.com
X-WR-CALDESC:Events for Visit Van Wert
REFRESH-INTERVAL;VALUE=DURATION:PT1H
X-Robots-Tag:noindex
X-PUBLISHED-TTL:PT1H
BEGIN:VTIMEZONE
TZID:UTC
BEGIN:STANDARD
TZOFFSETFROM:+0000
TZOFFSETTO:+0000
TZNAME:UTC
DTSTART:20250101T000000
END:STANDARD
END:VTIMEZONE
BEGIN:VEVENT
DTSTART;TZID=UTC:20260128T013000
DTEND;TZID=UTC:20260128T150000
DTSTAMP:20260421T105544
CREATED:20260128T142057Z
LAST-MODIFIED:20260128T142057Z
UID:10002517-1769563800-1769612400@visitvanwert.com
SUMMARY:Clay Lab 1 Wassenberg Art Center
DESCRIPTION:
URL:https://visitvanwert.com/event/clay-lab-1-wassenberg-art-center/
LOCATION:Wassenberg Art Center\, 214 S. Washington St.\, Van Wert\, Ohio\, 45891
ATTACH;FMTTYPE=image/jpeg:https://visitvanwert.com/wp-content/uploads/2026/01/Wassenberg-February-1-2026.jpg
END:VEVENT
BEGIN:VEVENT
DTSTART;TZID=UTC:20260128T060000
DTEND;TZID=UTC:20260128T130000
DTSTAMP:20260421T105544
CREATED:20260128T143019Z
LAST-MODIFIED:20260128T143019Z
UID:10002518-1769580000-1769605200@visitvanwert.com
SUMMARY:Convoy Fire Department Bake Sale @ Edgewood Park
DESCRIPTION:Fire Departments and baking go together like peanut butter and chocolate! There will be plenty to choose from during the bake sale\, stop by and say hello while you shop.
URL:https://visitvanwert.com/event/convoy-fire-department-bake-sale-edgewood-park/
LOCATION:Edgewood Park\, 634 N. Main St.\, Convoy\, OH\, OH\, 45832\, United States
ATTACH;FMTTYPE=image/jpeg:https://visitvanwert.com/wp-content/uploads/2026/01/Convoy-Fire-EMS-Bake-Sale-February-2026.jpg
END:VEVENT
END:VCALENDAR