BEGIN:VCALENDAR
VERSION:2.0
PRODID:-//Visit Van Wert - ECPv6.15.14//NONSGML v1.0//EN
CALSCALE:GREGORIAN
METHOD:PUBLISH
X-WR-CALNAME:Visit Van Wert
X-ORIGINAL-URL:https://visitvanwert.com
X-WR-CALDESC:Events for Visit Van Wert
REFRESH-INTERVAL;VALUE=DURATION:PT1H
X-Robots-Tag:noindex
X-PUBLISHED-TTL:PT1H
BEGIN:VTIMEZONE
TZID:UTC
BEGIN:STANDARD
TZOFFSETFROM:+0000
TZOFFSETTO:+0000
TZNAME:UTC
DTSTART:20250101T000000
END:STANDARD
END:VTIMEZONE
BEGIN:VEVENT
DTSTART;TZID=UTC:20260213T170000
DTEND;TZID=UTC:20260213T190000
DTSTAMP:20260421T105619
CREATED:20260128T175526Z
LAST-MODIFIED:20260128T175526Z
UID:10002528-1771002000-1771009200@visitvanwert.com
SUMMARY:Lenten Fish Fry held at VW K of C Hall (This Friday benefits The Pregnancy Life Center)
DESCRIPTION:
URL:https://visitvanwert.com/event/lenten-fish-fry-held-at-vw-k-of-c-hall-this-friday-benefits-the-pregnancy-life-center/
LOCATION:K of C Hall\, 425 Woodland Avenue\, Van Wert\, OH\, 45891\, United States
ATTACH;FMTTYPE=image/jpeg:https://visitvanwert.com/wp-content/uploads/2026/01/Lenten-Fish-Fry-image.jpg
END:VEVENT
BEGIN:VEVENT
DTSTART;TZID=UTC:20260213T170000
DTEND;TZID=UTC:20260213T200000
DTSTAMP:20260421T105619
CREATED:20251202T204206Z
LAST-MODIFIED:20251202T204206Z
UID:10002489-1771002000-1771012800@visitvanwert.com
SUMMARY:Main Street Van Wert Chocolate Walk
DESCRIPTION:Perfect night for a girls group night out or a date night out on town! Chocolate everything and everywhere.
URL:https://visitvanwert.com/event/main-street-van-wert-chocolate-walk/
LOCATION:Main Street\, 136 E. Main Street\, Van Wert\, OH\, 45891\, United States
ATTACH;FMTTYPE=image/jpeg:https://visitvanwert.com/wp-content/uploads/2025/12/MSVW-Chocolate-Walk-2026.jpg
END:VEVENT
BEGIN:VEVENT
DTSTART;TZID=UTC:20260213T180000
DTEND;TZID=UTC:20260213T193000
DTSTAMP:20260421T105619
CREATED:20260128T150734Z
LAST-MODIFIED:20260128T150734Z
UID:10002521-1771005600-1771011000@visitvanwert.com
SUMMARY:Brewed Expressions Coffee\, Canvas Sip and Paint
DESCRIPTION:Perfect timing during the Chocolate Walk to stop and sip!
URL:https://visitvanwert.com/event/brewed-expressions-coffee-canvas-sip-and-paint/
LOCATION:Brewed Expressions\, 109 W. Main St.\, Van Wert\, OH\, 45891\, United States
ATTACH;FMTTYPE=image/jpeg:https://visitvanwert.com/wp-content/uploads/2026/01/Brewed-Expressions-February-2026-event.jpg
END:VEVENT
END:VCALENDAR