BEGIN:VCALENDAR
VERSION:2.0
PRODID:-//Visit Van Wert - ECPv6.15.14//NONSGML v1.0//EN
CALSCALE:GREGORIAN
METHOD:PUBLISH
X-ORIGINAL-URL:https://visitvanwert.com
X-WR-CALDESC:Events for Visit Van Wert
REFRESH-INTERVAL;VALUE=DURATION:PT1H
X-Robots-Tag:noindex
X-PUBLISHED-TTL:PT1H
BEGIN:VTIMEZONE
TZID:UTC
BEGIN:STANDARD
TZOFFSETFROM:+0000
TZOFFSETTO:+0000
TZNAME:UTC
DTSTART:20250101T000000
END:STANDARD
END:VTIMEZONE
BEGIN:VEVENT
DTSTART;TZID=UTC:20260317T100000
DTEND;TZID=UTC:20260319T120000
DTSTAMP:20260421T123028
CREATED:20260227T190917Z
LAST-MODIFIED:20260227T190917Z
UID:10002546-1773741600-1773921600@visitvanwert.com
SUMMARY:Spring Break Art mini-camp @ Wassenberg Art Center
DESCRIPTION:Please register for a space: \nAges 5-8 (10:00  to noon) \nAges 9-12 (1:00 – 3:00)
URL:https://visitvanwert.com/event/spring-break-art-mini-camp-wassenberg-art-center/
LOCATION:Wassenberg Art Center\, 214 S. Washington St.\, Van Wert\, Ohio\, 45891
ATTACH;FMTTYPE=image/jpeg:https://visitvanwert.com/wp-content/uploads/2026/02/Wassenberg-Sprint-Break-mini-camp-2026.jpg
END:VEVENT
BEGIN:VEVENT
DTSTART;TZID=UTC:20260317T173000
DTEND;TZID=UTC:20260317T190000
DTSTAMP:20260421T123028
CREATED:20260227T190447Z
LAST-MODIFIED:20260227T190447Z
UID:10002545-1773768600-1773774000@visitvanwert.com
SUMMARY:VWAED Business Boot Camp
DESCRIPTION:
URL:https://visitvanwert.com/event/vwaed-business-boot-camp/
LOCATION:Northwest State Community College\, 520 N. Sycamore St.\, Van Wert\, OH\, 45891\, United States
ATTACH;FMTTYPE=image/jpeg:https://visitvanwert.com/wp-content/uploads/2026/01/Business-Bootcamp-Workshop-2026.jpg
END:VEVENT
BEGIN:VEVENT
DTSTART;TZID=UTC:20260317T180000
DTEND;TZID=UTC:20260317T210000
DTSTAMP:20260421T123028
CREATED:20260305T155013Z
LAST-MODIFIED:20260305T155538Z
UID:10002815-1773770400-1773781200@visitvanwert.com
SUMMARY:R Place Grill LIVE music with Chuck Summers
DESCRIPTION:
URL:https://visitvanwert.com/event/r-place-grill-live-music-with-chuck-summers/
LOCATION:R Place Stone Grill\, 139 E. Main Street\, Van Wert\, OH\, 45891\, United States
ATTACH;FMTTYPE=image/jpeg:https://visitvanwert.com/wp-content/uploads/2022/02/R-Place-Stone-Grill.jpg
END:VEVENT
END:VCALENDAR