BEGIN:VCALENDAR
VERSION:2.0
PRODID:-//Visit Van Wert - ECPv6.15.14//NONSGML v1.0//EN
CALSCALE:GREGORIAN
METHOD:PUBLISH
X-ORIGINAL-URL:https://visitvanwert.com
X-WR-CALDESC:Events for Visit Van Wert
REFRESH-INTERVAL;VALUE=DURATION:PT1H
X-Robots-Tag:noindex
X-PUBLISHED-TTL:PT1H
BEGIN:VTIMEZONE
TZID:UTC
BEGIN:STANDARD
TZOFFSETFROM:+0000
TZOFFSETTO:+0000
TZNAME:UTC
DTSTART:20250101T000000
END:STANDARD
END:VTIMEZONE
BEGIN:VEVENT
DTSTART;TZID=UTC:20260326T180000
DTEND;TZID=UTC:20260326T200000
DTSTAMP:20260421T082058
CREATED:20251203T153712Z
LAST-MODIFIED:20251203T153712Z
UID:10002494-1774548000-1774555200@visitvanwert.com
SUMMARY:YWCA Women of Achievement Ceremony
DESCRIPTION:Follow the Van Wert YWCA for more details on their ceremony to honor local women of achievement.
URL:https://visitvanwert.com/event/ywca-women-of-achievement-ceremony/
LOCATION:Willow Bend Country Club\, 579 Hospital Drive\, Van Wert\, Ohio\, 45891
ATTACH;FMTTYPE=image/webp:https://visitvanwert.com/wp-content/uploads/2025/12/YWCA-Women-of-Achievement-2026.webp
END:VEVENT
END:VCALENDAR