BEGIN:VCALENDAR
VERSION:2.0
PRODID:-//Visit Van Wert - ECPv6.15.14//NONSGML v1.0//EN
CALSCALE:GREGORIAN
METHOD:PUBLISH
X-WR-CALNAME:Visit Van Wert
X-ORIGINAL-URL:https://visitvanwert.com
X-WR-CALDESC:Events for Visit Van Wert
REFRESH-INTERVAL;VALUE=DURATION:PT1H
X-Robots-Tag:noindex
X-PUBLISHED-TTL:PT1H
BEGIN:VTIMEZONE
TZID:UTC
BEGIN:STANDARD
TZOFFSETFROM:+0000
TZOFFSETTO:+0000
TZNAME:UTC
DTSTART:20250101T000000
END:STANDARD
END:VTIMEZONE
BEGIN:VEVENT
DTSTART;TZID=UTC:20260404T060000
DTEND;TZID=UTC:20260404T120000
DTSTAMP:20260420T045929
CREATED:20260305T161756Z
LAST-MODIFIED:20260305T161756Z
UID:10002820-1775282400-1775304000@visitvanwert.com
SUMMARY:Ohio City Volunteer Fire Department - Pancake/Sausage Day
DESCRIPTION:
URL:https://visitvanwert.com/event/ohio-city-volunteer-fire-department-pancake-sausage-day/
LOCATION:Ohio City Ohio
ATTACH;FMTTYPE=image/jpeg:https://visitvanwert.com/wp-content/uploads/2026/03/Ohio-City-Fire-Pancake-Day-April-2026.jpg
END:VEVENT
BEGIN:VEVENT
DTSTART;TZID=UTC:20260404T180000
DTEND;TZID=UTC:20260404T210000
DTSTAMP:20260420T045929
CREATED:20260305T161344Z
LAST-MODIFIED:20260305T161344Z
UID:10002819-1775325600-1775336400@visitvanwert.com
SUMMARY:R Place Grill LIVE music with Lee Warren
DESCRIPTION:
URL:https://visitvanwert.com/event/r-place-grill-live-music-with-lee-warren/
LOCATION:R Place Stone Grill\, 139 E. Main Street\, Van Wert\, OH\, 45891\, United States
ATTACH;FMTTYPE=image/jpeg:https://visitvanwert.com/wp-content/uploads/2022/02/R-Place-Stone-Grill.jpg
END:VEVENT
END:VCALENDAR