BEGIN:VCALENDAR
VERSION:2.0
PRODID:-//Visit Van Wert - ECPv6.15.14//NONSGML v1.0//EN
CALSCALE:GREGORIAN
METHOD:PUBLISH
X-ORIGINAL-URL:https://visitvanwert.com
X-WR-CALDESC:Events for Visit Van Wert
REFRESH-INTERVAL;VALUE=DURATION:PT1H
X-Robots-Tag:noindex
X-PUBLISHED-TTL:PT1H
BEGIN:VTIMEZONE
TZID:UTC
BEGIN:STANDARD
TZOFFSETFROM:+0000
TZOFFSETTO:+0000
TZNAME:UTC
DTSTART:20250101T000000
END:STANDARD
END:VTIMEZONE
BEGIN:VEVENT
DTSTART;TZID=UTC:20260503T150000
DTEND;TZID=UTC:20260503T170000
DTSTAMP:20260423T194241
CREATED:20260304T160211Z
LAST-MODIFIED:20260304T160211Z
UID:10002808-1777820400-1777827600@visitvanwert.com
SUMMARY:Wren and Convoy Softball Clinic grades 2-5
DESCRIPTION:
URL:https://visitvanwert.com/event/wren-and-convoy-softball-clinic-grades-2-5-5/
LOCATION:Crestview Elementary School\, 531 E. Tully Street\, Convoy\, OH\, OH\, 45832\, United States
ATTACH;FMTTYPE=image/jpeg:https://visitvanwert.com/wp-content/uploads/2026/02/Crestview-Softball-Clinic-2026.jpg
END:VEVENT
BEGIN:VEVENT
DTSTART;TZID=UTC:20260503T150000
DTEND;TZID=UTC:20260505T170000
DTSTAMP:20260423T194241
CREATED:20260304T150754Z
LAST-MODIFIED:20260304T150754Z
UID:10002683-1777820400-1778000400@visitvanwert.com
SUMMARY:Wren and Convoy Softball Clinic grades 2-5
DESCRIPTION:
URL:https://visitvanwert.com/event/wren-and-convoy-softball-clinic-grades-2-5-3/2026-05-03/
LOCATION:Vantage Career Center\, 818 N. Franklin St.\, Van Wert\, Ohio\, 45891
ATTACH;FMTTYPE=image/jpeg:https://visitvanwert.com/wp-content/uploads/2026/02/Crestview-Softball-Clinic-2026.jpg
END:VEVENT
BEGIN:VEVENT
DTSTART;TZID=UTC:20260506T150000
DTEND;TZID=UTC:20260508T170000
DTSTAMP:20260423T194241
CREATED:20260304T150754Z
LAST-MODIFIED:20260304T150754Z
UID:10002684-1778079600-1778259600@visitvanwert.com
SUMMARY:Wren and Convoy Softball Clinic grades 2-5
DESCRIPTION:
URL:https://visitvanwert.com/event/wren-and-convoy-softball-clinic-grades-2-5-3/2026-05-06/
LOCATION:Vantage Career Center\, 818 N. Franklin St.\, Van Wert\, Ohio\, 45891
ATTACH;FMTTYPE=image/jpeg:https://visitvanwert.com/wp-content/uploads/2026/02/Crestview-Softball-Clinic-2026.jpg
END:VEVENT
BEGIN:VEVENT
DTSTART;TZID=UTC:20260506T173000
DTEND;TZID=UTC:20260506T193000
DTSTAMP:20260423T194241
CREATED:20260423T151347Z
LAST-MODIFIED:20260423T151347Z
UID:10002978-1778088600-1778095800@visitvanwert.com
SUMMARY:Advancing Women's Health Seminar presented by Van Wert Area Chamber of Commerce
DESCRIPTION:
URL:https://visitvanwert.com/event/advancing-womens-health-seminar-presented-by-van-wert-area-chamber-of-commerce/
LOCATION:Willow Bend Country Club\, 579 Hospital Drive\, Van Wert\, Ohio\, 45891
ATTACH;FMTTYPE=image/jpeg:https://visitvanwert.com/wp-content/uploads/2026/04/Womens-Health-Seminar-2026.jpg
END:VEVENT
BEGIN:VEVENT
DTSTART;TZID=UTC:20260508T193000
DTEND;TZID=UTC:20260508T213000
DTSTAMP:20260423T194241
CREATED:20251203T181433Z
LAST-MODIFIED:20251203T181433Z
UID:10002499-1778268600-1778275800@visitvanwert.com
SUMMARY:Van Wert Civic Theater presents "Songs for a New World"
DESCRIPTION:A music explosion of life’s crossroads inside the human experience. The songs come alive on the stage from love to heartbreak for the audience.
URL:https://visitvanwert.com/event/van-wert-civic-theater-presents-songs-for-a-new-world/
LOCATION:Van Wert Civic Theatre\, 118 Race St.\, Van Wert\, Ohio\, 45891
ATTACH;FMTTYPE=image/jpeg:https://visitvanwert.com/wp-content/uploads/2025/12/VWCT-Songs-for-a-New-World.jpg
END:VEVENT
BEGIN:VEVENT
DTSTART;VALUE=DATE:20260509
DTEND;VALUE=DATE:20260510
DTSTAMP:20260423T194241
CREATED:20260304T160525Z
LAST-MODIFIED:20260304T160525Z
UID:10002809-1778284800-1778371199@visitvanwert.com
SUMMARY:Middle Point Ball Park Opening Day
DESCRIPTION:
URL:https://visitvanwert.com/event/middle-point-ball-park-opening-day/
LOCATION:Middle Point
ATTACH;FMTTYPE=image/jpeg:https://visitvanwert.com/wp-content/uploads/2026/03/Middle-Point-Ball-Park.jpg
END:VEVENT
BEGIN:VEVENT
DTSTART;TZID=UTC:20260509T150000
DTEND;TZID=UTC:20260511T170000
DTSTAMP:20260423T194241
CREATED:20260304T150754Z
LAST-MODIFIED:20260304T150754Z
UID:10002685-1778338800-1778518800@visitvanwert.com
SUMMARY:Wren and Convoy Softball Clinic grades 2-5
DESCRIPTION:
URL:https://visitvanwert.com/event/wren-and-convoy-softball-clinic-grades-2-5-3/2026-05-09/
LOCATION:Vantage Career Center\, 818 N. Franklin St.\, Van Wert\, Ohio\, 45891
ATTACH;FMTTYPE=image/jpeg:https://visitvanwert.com/wp-content/uploads/2026/02/Crestview-Softball-Clinic-2026.jpg
END:VEVENT
BEGIN:VEVENT
DTSTART;TZID=UTC:20260509T193000
DTEND;TZID=UTC:20260509T213000
DTSTAMP:20260423T194241
CREATED:20251203T182442Z
LAST-MODIFIED:20251203T182442Z
UID:10002500-1778355000-1778362200@visitvanwert.com
SUMMARY:Van Wert Civic Theatre presents Songs for a New World
DESCRIPTION:Songs for every season of life is displayed on stage with the audience mesmerized!
URL:https://visitvanwert.com/event/van-wert-civic-theatre-presents-songs-for-a-new-world/
LOCATION:Van Wert Civic Theatre\, 118 Race St.\, Van Wert\, Ohio\, 45891
ATTACH;FMTTYPE=image/jpeg:https://visitvanwert.com/wp-content/uploads/2025/12/VWCT-Songs-for-a-New-World.jpg
END:VEVENT
BEGIN:VEVENT
DTSTART;TZID=UTC:20260510T140000
DTEND;TZID=UTC:20260510T160000
DTSTAMP:20260423T194241
CREATED:20251203T185047Z
LAST-MODIFIED:20251203T185047Z
UID:10002501-1778421600-1778428800@visitvanwert.com
SUMMARY:Van Wert Civic Theatre presents Songs for a New World
DESCRIPTION:
URL:https://visitvanwert.com/event/van-wert-civic-theatre-presents-songs-for-a-new-world-2/
LOCATION:Van Wert Civic Theatre\, 118 Race St.\, Van Wert\, Ohio\, 45891
ATTACH;FMTTYPE=image/jpeg:https://visitvanwert.com/wp-content/uploads/2025/12/VWCT-Songs-for-a-New-World.jpg
END:VEVENT
BEGIN:VEVENT
DTSTART;TZID=UTC:20260512T150000
DTEND;TZID=UTC:20260514T170000
DTSTAMP:20260423T194241
CREATED:20260304T150754Z
LAST-MODIFIED:20260304T150754Z
UID:10002686-1778598000-1778778000@visitvanwert.com
SUMMARY:Wren and Convoy Softball Clinic grades 2-5
DESCRIPTION:
URL:https://visitvanwert.com/event/wren-and-convoy-softball-clinic-grades-2-5-3/2026-05-12/
LOCATION:Vantage Career Center\, 818 N. Franklin St.\, Van Wert\, Ohio\, 45891
ATTACH;FMTTYPE=image/jpeg:https://visitvanwert.com/wp-content/uploads/2026/02/Crestview-Softball-Clinic-2026.jpg
END:VEVENT
BEGIN:VEVENT
DTSTART;TZID=UTC:20260515T150000
DTEND;TZID=UTC:20260517T170000
DTSTAMP:20260423T194241
CREATED:20260304T150754Z
LAST-MODIFIED:20260304T150754Z
UID:10002687-1778857200-1779037200@visitvanwert.com
SUMMARY:Wren and Convoy Softball Clinic grades 2-5
DESCRIPTION:
URL:https://visitvanwert.com/event/wren-and-convoy-softball-clinic-grades-2-5-3/2026-05-15/
LOCATION:Vantage Career Center\, 818 N. Franklin St.\, Van Wert\, Ohio\, 45891
ATTACH;FMTTYPE=image/jpeg:https://visitvanwert.com/wp-content/uploads/2026/02/Crestview-Softball-Clinic-2026.jpg
END:VEVENT
BEGIN:VEVENT
DTSTART;TZID=UTC:20260515T160000
DTEND;TZID=UTC:20260515T210000
DTSTAMP:20260423T194241
CREATED:20251203T193602Z
LAST-MODIFIED:20251203T193602Z
UID:10002505-1778860800-1778878800@visitvanwert.com
SUMMARY:Van Wert County Fairgrounds host Urban Boho Market
DESCRIPTION:Looking for vendors such as a boho and holistic items\, handmade items\, jewelry\, and more!
URL:https://visitvanwert.com/event/van-wert-county-fairgrounds-host-urban-boho-market/
LOCATION:Van Wert County Fairgrounds\, 1055 S. Washington St.\, Van Wert\, Ohio\, 45891
ATTACH;FMTTYPE=image/png:https://visitvanwert.com/wp-content/uploads/2025/12/VWCF-Urban-Boho-Market.png
END:VEVENT
BEGIN:VEVENT
DTSTART;TZID=UTC:20260515T193000
DTEND;TZID=UTC:20260515T213000
DTSTAMP:20260423T194241
CREATED:20251203T185657Z
LAST-MODIFIED:20251203T185657Z
UID:10002502-1778873400-1778880600@visitvanwert.com
SUMMARY:Van Wert Civic Theatre presents "Songs for a New World"
DESCRIPTION:
URL:https://visitvanwert.com/event/van-wert-civic-theatre-presents-songs-for-a-new-world-3/2026-05-15/
LOCATION:Van Wert Civic Theatre\, 118 Race St.\, Van Wert\, Ohio\, 45891
ATTACH;FMTTYPE=image/jpeg:https://visitvanwert.com/wp-content/uploads/2025/12/VWCT-Songs-for-a-New-World.jpg
END:VEVENT
BEGIN:VEVENT
DTSTART;VALUE=DATE:20260516
DTEND;VALUE=DATE:20260517
DTSTAMP:20260423T194241
CREATED:20260304T160947Z
LAST-MODIFIED:20260304T160947Z
UID:10002810-1778889600-1778975999@visitvanwert.com
SUMMARY:Convoy Community Garage Sale
DESCRIPTION:
URL:https://visitvanwert.com/event/convoy-community-garage-sale/
LOCATION:Village of Convoy\, Main Street\, Convoy\, OH\, United States
ATTACH;FMTTYPE=image/png:https://visitvanwert.com/wp-content/uploads/2026/03/Screenshot-106.png
END:VEVENT
BEGIN:VEVENT
DTSTART;TZID=UTC:20260516T090000
DTEND;TZID=UTC:20260516T150000
DTSTAMP:20260423T194241
CREATED:20251203T193849Z
LAST-MODIFIED:20251203T193849Z
UID:10002506-1778922000-1778943600@visitvanwert.com
SUMMARY:Van Wert County Fairgrounds Urban Boho Market
DESCRIPTION:
URL:https://visitvanwert.com/event/van-wert-county-fairgrounds-urban-boho-market/
LOCATION:Van Wert County Fairgrounds\, 1055 S. Washington St.\, Van Wert\, Ohio\, 45891
ATTACH;FMTTYPE=image/png:https://visitvanwert.com/wp-content/uploads/2025/12/VWCF-Urban-Boho-Market.png
END:VEVENT
BEGIN:VEVENT
DTSTART;TZID=UTC:20260516T100000
DTEND;TZID=UTC:20260516T143000
DTSTAMP:20260423T194241
CREATED:20260423T152421Z
LAST-MODIFIED:20260423T152421Z
UID:10002979-1778925600-1778941800@visitvanwert.com
SUMMARY:Central Insurance celebrates 150th Birthday Bash!
DESCRIPTION:Central Insurance 150th car show
URL:https://visitvanwert.com/event/central-insurance-celebrates-150th-birthday-bash/
LOCATION:Central Insurance Company\, 800 S. Washington St.
ATTACH;FMTTYPE=image/png:https://visitvanwert.com/wp-content/uploads/2026/04/Screenshot-116.png
END:VEVENT
BEGIN:VEVENT
DTSTART;TZID=UTC:20260516T193000
DTEND;TZID=UTC:20260516T213000
DTSTAMP:20260423T194241
CREATED:20251203T185657Z
LAST-MODIFIED:20251203T185657Z
UID:10002503-1778959800-1778967000@visitvanwert.com
SUMMARY:Van Wert Civic Theatre presents "Songs for a New World"
DESCRIPTION:
URL:https://visitvanwert.com/event/van-wert-civic-theatre-presents-songs-for-a-new-world-3/2026-05-16/
LOCATION:Van Wert Civic Theatre\, 118 Race St.\, Van Wert\, Ohio\, 45891
ATTACH;FMTTYPE=image/jpeg:https://visitvanwert.com/wp-content/uploads/2025/12/VWCT-Songs-for-a-New-World.jpg
END:VEVENT
BEGIN:VEVENT
DTSTART;TZID=UTC:20260517T140000
DTEND;TZID=UTC:20260517T160000
DTSTAMP:20260423T194241
CREATED:20251203T191037Z
LAST-MODIFIED:20251203T191037Z
UID:10002504-1779026400-1779033600@visitvanwert.com
SUMMARY:Van Wert Civic Theatre presents "Songs for a New World"
DESCRIPTION:
URL:https://visitvanwert.com/event/van-wert-civic-theatre-presents-songs-for-a-new-world-4/
LOCATION:Van Wert Civic Theatre\, 118 Race St.\, Van Wert\, Ohio\, 45891
ATTACH;FMTTYPE=image/jpeg:https://visitvanwert.com/wp-content/uploads/2025/12/VWCT-Songs-for-a-New-World.jpg
END:VEVENT
BEGIN:VEVENT
DTSTART;TZID=UTC:20260518T150000
DTEND;TZID=UTC:20260520T170000
DTSTAMP:20260423T194241
CREATED:20260304T150754Z
LAST-MODIFIED:20260304T150754Z
UID:10002688-1779116400-1779296400@visitvanwert.com
SUMMARY:Wren and Convoy Softball Clinic grades 2-5
DESCRIPTION:
URL:https://visitvanwert.com/event/wren-and-convoy-softball-clinic-grades-2-5-3/2026-05-18/
LOCATION:Vantage Career Center\, 818 N. Franklin St.\, Van Wert\, Ohio\, 45891
ATTACH;FMTTYPE=image/jpeg:https://visitvanwert.com/wp-content/uploads/2026/02/Crestview-Softball-Clinic-2026.jpg
END:VEVENT
BEGIN:VEVENT
DTSTART;TZID=UTC:20260521T150000
DTEND;TZID=UTC:20260523T170000
DTSTAMP:20260423T194241
CREATED:20260304T150754Z
LAST-MODIFIED:20260304T150754Z
UID:10002689-1779375600-1779555600@visitvanwert.com
SUMMARY:Wren and Convoy Softball Clinic grades 2-5
DESCRIPTION:
URL:https://visitvanwert.com/event/wren-and-convoy-softball-clinic-grades-2-5-3/2026-05-21/
LOCATION:Vantage Career Center\, 818 N. Franklin St.\, Van Wert\, Ohio\, 45891
ATTACH;FMTTYPE=image/jpeg:https://visitvanwert.com/wp-content/uploads/2026/02/Crestview-Softball-Clinic-2026.jpg
END:VEVENT
BEGIN:VEVENT
DTSTART;TZID=UTC:20260522T190000
DTEND;TZID=UTC:20260522T210000
DTSTAMP:20260423T194241
CREATED:20260310T175925Z
LAST-MODIFIED:20260310T175925Z
UID:10002825-1779476400-1779483600@visitvanwert.com
SUMMARY:R Place Grill hosts LIVE music "My Cousin Eddy"
DESCRIPTION:Food\, live music and
URL:https://visitvanwert.com/event/r-place-grill-hosts-live-music-my-cousin-eddy/
LOCATION:R Place Stone Grill\, 139 E. Main Street\, Van Wert\, OH\, 45891\, United States
ATTACH;FMTTYPE=image/jpeg:https://visitvanwert.com/wp-content/uploads/2022/02/R-Place-Stone-Grill.jpg
END:VEVENT
BEGIN:VEVENT
DTSTART;TZID=UTC:20260522T190000
DTEND;TZID=UTC:20260522T210000
DTSTAMP:20260423T194241
CREATED:20260310T180056Z
LAST-MODIFIED:20260310T180056Z
UID:10002826-1779476400-1779483600@visitvanwert.com
SUMMARY:R Place Grill hosts LIVE music "IYKYK"
DESCRIPTION:Food\, LIVE music and more!
URL:https://visitvanwert.com/event/r-place-grill-hosts-live-music-iykyk/
LOCATION:R Place Stone Grill\, 139 E. Main Street\, Van Wert\, OH\, 45891\, United States
ATTACH;FMTTYPE=image/jpeg:https://visitvanwert.com/wp-content/uploads/2022/02/R-Place-Stone-Grill.jpg
END:VEVENT
BEGIN:VEVENT
DTSTART;TZID=UTC:20260522T190000
DTEND;TZID=UTC:20260522T210000
DTSTAMP:20260423T194241
CREATED:20260408T194235Z
LAST-MODIFIED:20260408T194235Z
UID:10002965-1779476400-1779483600@visitvanwert.com
SUMMARY:Feel Good Friday Van Wert Community Concert Band @ Fountain Park
DESCRIPTION:Feel Good Friday Nights start with May 22nd with Van Wert Community Concert Band held at Fountain Park in downtown Van Wert at 7:00 p.m.
URL:https://visitvanwert.com/event/feel-good-friday-van-wert-community-concert-band-fountain-park/
LOCATION:Fountain Park\, Van Wert\, Ohio\, 45891
ATTACH;FMTTYPE=image/jpeg:https://visitvanwert.com/wp-content/uploads/2026/04/Feel-Good-Friday-2026-lineup.jpg
END:VEVENT
BEGIN:VEVENT
DTSTART;TZID=UTC:20260524T150000
DTEND;TZID=UTC:20260526T170000
DTSTAMP:20260423T194241
CREATED:20260304T150754Z
LAST-MODIFIED:20260304T150754Z
UID:10002690-1779634800-1779814800@visitvanwert.com
SUMMARY:Wren and Convoy Softball Clinic grades 2-5
DESCRIPTION:
URL:https://visitvanwert.com/event/wren-and-convoy-softball-clinic-grades-2-5-3/2026-05-24/
LOCATION:Vantage Career Center\, 818 N. Franklin St.\, Van Wert\, Ohio\, 45891
ATTACH;FMTTYPE=image/jpeg:https://visitvanwert.com/wp-content/uploads/2026/02/Crestview-Softball-Clinic-2026.jpg
END:VEVENT
BEGIN:VEVENT
DTSTART;TZID=UTC:20260527T150000
DTEND;TZID=UTC:20260529T170000
DTSTAMP:20260423T194241
CREATED:20260304T150754Z
LAST-MODIFIED:20260304T150754Z
UID:10002691-1779894000-1780074000@visitvanwert.com
SUMMARY:Wren and Convoy Softball Clinic grades 2-5
DESCRIPTION:
URL:https://visitvanwert.com/event/wren-and-convoy-softball-clinic-grades-2-5-3/2026-05-27/
LOCATION:Vantage Career Center\, 818 N. Franklin St.\, Van Wert\, Ohio\, 45891
ATTACH;FMTTYPE=image/jpeg:https://visitvanwert.com/wp-content/uploads/2026/02/Crestview-Softball-Clinic-2026.jpg
END:VEVENT
BEGIN:VEVENT
DTSTART;TZID=UTC:20260530T150000
DTEND;TZID=UTC:20260601T170000
DTSTAMP:20260423T194241
CREATED:20260304T150754Z
LAST-MODIFIED:20260304T150754Z
UID:10002692-1780153200-1780333200@visitvanwert.com
SUMMARY:Wren and Convoy Softball Clinic grades 2-5
DESCRIPTION:
URL:https://visitvanwert.com/event/wren-and-convoy-softball-clinic-grades-2-5-3/2026-05-30/
LOCATION:Vantage Career Center\, 818 N. Franklin St.\, Van Wert\, Ohio\, 45891
ATTACH;FMTTYPE=image/jpeg:https://visitvanwert.com/wp-content/uploads/2026/02/Crestview-Softball-Clinic-2026.jpg
END:VEVENT
BEGIN:VEVENT
DTSTART;TZID=UTC:20260602T150000
DTEND;TZID=UTC:20260604T170000
DTSTAMP:20260423T194241
CREATED:20260304T150754Z
LAST-MODIFIED:20260304T150754Z
UID:10002693-1780412400-1780592400@visitvanwert.com
SUMMARY:Wren and Convoy Softball Clinic grades 2-5
DESCRIPTION:
URL:https://visitvanwert.com/event/wren-and-convoy-softball-clinic-grades-2-5-3/2026-06-02/
LOCATION:Vantage Career Center\, 818 N. Franklin St.\, Van Wert\, Ohio\, 45891
ATTACH;FMTTYPE=image/jpeg:https://visitvanwert.com/wp-content/uploads/2026/02/Crestview-Softball-Clinic-2026.jpg
END:VEVENT
BEGIN:VEVENT
DTSTART;TZID=UTC:20260604T193000
DTEND;TZID=UTC:20260606T213000
DTSTAMP:20260423T194241
CREATED:20260423T154213Z
LAST-MODIFIED:20260423T154213Z
UID:10002980-1780601400-1780781400@visitvanwert.com
SUMMARY:Van Wert County Jr. Theater presents "Murder on the Monkey Express"
DESCRIPTION:
URL:https://visitvanwert.com/event/van-wert-county-jr-theater-presents-murder-on-the-monkey-express/
LOCATION:Van Wert Civic Theatre\, 118 Race St.\, Van Wert\, Ohio\, 45891
ATTACH;FMTTYPE=image/jpeg:https://visitvanwert.com/wp-content/uploads/2026/04/murder-on-the-monkey-express-1.jpg
END:VEVENT
BEGIN:VEVENT
DTSTART;TZID=UTC:20260605T080000
DTEND;TZID=UTC:20260606T170000
DTSTAMP:20260423T194241
CREATED:20251210T140815Z
LAST-MODIFIED:20251210T140815Z
UID:10002508-1780646400-1780765200@visitvanwert.com
SUMMARY:Van Wert Peony Festival Weekend
DESCRIPTION:A classic and memorable weekend brings back memories of years past with Van Wert’s Peony Weekend. Please follow their website for all the details:  www.peonyfestival.com
URL:https://visitvanwert.com/event/van-wert-peony-festival-weekend/
LOCATION:Downtown Van Wert
ATTACH;FMTTYPE=image/jpeg:https://visitvanwert.com/wp-content/uploads/2025/06/Peony-Festival-logo.jpg
END:VEVENT
BEGIN:VEVENT
DTSTART;TZID=UTC:20260605T150000
DTEND;TZID=UTC:20260607T170000
DTSTAMP:20260423T194241
CREATED:20260304T150754Z
LAST-MODIFIED:20260304T150754Z
UID:10002694-1780671600-1780851600@visitvanwert.com
SUMMARY:Wren and Convoy Softball Clinic grades 2-5
DESCRIPTION:
URL:https://visitvanwert.com/event/wren-and-convoy-softball-clinic-grades-2-5-3/2026-06-05/
LOCATION:Vantage Career Center\, 818 N. Franklin St.\, Van Wert\, Ohio\, 45891
ATTACH;FMTTYPE=image/jpeg:https://visitvanwert.com/wp-content/uploads/2026/02/Crestview-Softball-Clinic-2026.jpg
END:VEVENT
END:VCALENDAR