BEGIN:VCALENDAR
VERSION:2.0
PRODID:-//Visit Van Wert - ECPv6.15.14//NONSGML v1.0//EN
CALSCALE:GREGORIAN
METHOD:PUBLISH
X-ORIGINAL-URL:https://visitvanwert.com
X-WR-CALDESC:Events for Visit Van Wert
REFRESH-INTERVAL;VALUE=DURATION:PT1H
X-Robots-Tag:noindex
X-PUBLISHED-TTL:PT1H
BEGIN:VTIMEZONE
TZID:UTC
BEGIN:STANDARD
TZOFFSETFROM:+0000
TZOFFSETTO:+0000
TZNAME:UTC
DTSTART:20250101T000000
END:STANDARD
END:VTIMEZONE
BEGIN:VEVENT
DTSTART;TZID=UTC:20260522T190000
DTEND;TZID=UTC:20260522T210000
DTSTAMP:20260421T123442
CREATED:20260408T194235Z
LAST-MODIFIED:20260408T194235Z
UID:10002965-1779476400-1779483600@visitvanwert.com
SUMMARY:Feel Good Friday Van Wert Community Concert Band @ Fountain Park
DESCRIPTION:Feel Good Friday Nights start with May 22nd with Van Wert Community Concert Band held at Fountain Park in downtown Van Wert at 7:00 p.m.
URL:https://visitvanwert.com/event/feel-good-friday-van-wert-community-concert-band-fountain-park/
LOCATION:Fountain Park\, Van Wert\, Ohio\, 45891
ATTACH;FMTTYPE=image/jpeg:https://visitvanwert.com/wp-content/uploads/2026/04/Feel-Good-Friday-2026-lineup.jpg
END:VEVENT
BEGIN:VEVENT
DTSTART;TZID=UTC:20260605T193000
DTEND;TZID=UTC:20260605T213000
DTSTAMP:20260421T123442
CREATED:20260408T194411Z
LAST-MODIFIED:20260408T194411Z
UID:10002966-1780687800-1780695000@visitvanwert.com
SUMMARY:Van Wert LIVE presents Feel Good Fridays with "Ladies of the 80s"
DESCRIPTION:
URL:https://visitvanwert.com/event/van-wert-live-presents-feel-good-fridays-with-ladies-of-the-80s/
LOCATION:Fountain Park\, Van Wert\, Ohio\, 45891
ATTACH;FMTTYPE=image/jpeg:https://visitvanwert.com/wp-content/uploads/2026/04/Feel-Good-Friday-2026-lineup.jpg
END:VEVENT
BEGIN:VEVENT
DTSTART;TZID=UTC:20260612T193000
DTEND;TZID=UTC:20260612T213000
DTSTAMP:20260421T123442
CREATED:20260408T194525Z
LAST-MODIFIED:20260408T194525Z
UID:10002967-1781292600-1781299800@visitvanwert.com
SUMMARY:Van Wert LIVE presents Feel Good Friday with "Neon 90s Country Rewind"
DESCRIPTION:
URL:https://visitvanwert.com/event/van-wert-live-presents-feel-good-friday-with-neon-90s-country-rewind/
LOCATION:Fountain Park\, Van Wert\, Ohio\, 45891
ATTACH;FMTTYPE=image/jpeg:https://visitvanwert.com/wp-content/uploads/2026/04/Feel-Good-Friday-2026-lineup.jpg
END:VEVENT
BEGIN:VEVENT
DTSTART;TZID=UTC:20260619T193000
DTEND;TZID=UTC:20260619T213000
DTSTAMP:20260421T123442
CREATED:20260408T194640Z
LAST-MODIFIED:20260408T194640Z
UID:10002968-1781897400-1781904600@visitvanwert.com
SUMMARY:Van Wert LIVE presents Feel Good Friday with "Ralph's World"
DESCRIPTION:
URL:https://visitvanwert.com/event/van-wert-live-presents-feel-good-friday-with-ralphs-world/
LOCATION:Fountain Park\, Van Wert\, Ohio\, 45891
ATTACH;FMTTYPE=image/jpeg:https://visitvanwert.com/wp-content/uploads/2026/04/Feel-Good-Friday-2026-lineup.jpg
END:VEVENT
BEGIN:VEVENT
DTSTART;TZID=UTC:20260710T193000
DTEND;TZID=UTC:20260710T213000
DTSTAMP:20260421T123442
CREATED:20260408T194800Z
LAST-MODIFIED:20260408T194800Z
UID:10002969-1783711800-1783719000@visitvanwert.com
SUMMARY:Van Wert LIVE presents Feel Good Friday with "New Millenium Jazz Orchestra"
DESCRIPTION:
URL:https://visitvanwert.com/event/van-wert-live-presents-feel-good-friday-with-new-millenium-jazz-orchestra/
LOCATION:Fountain Park\, Van Wert\, Ohio\, 45891
ATTACH;FMTTYPE=image/jpeg:https://visitvanwert.com/wp-content/uploads/2026/04/Feel-Good-Friday-2026-lineup.jpg
END:VEVENT
BEGIN:VEVENT
DTSTART;TZID=UTC:20260717T193000
DTEND;TZID=UTC:20260717T213000
DTSTAMP:20260421T123442
CREATED:20260408T194921Z
LAST-MODIFIED:20260408T194921Z
UID:10002970-1784316600-1784323800@visitvanwert.com
SUMMARY:Van Wert LIVE presents Feel Good Friday with "Jesse LaBelle"
DESCRIPTION:
URL:https://visitvanwert.com/event/van-wert-live-presents-feel-good-friday-with-jesse-labelle/
LOCATION:Fountain Park\, Van Wert\, Ohio\, 45891
ATTACH;FMTTYPE=image/jpeg:https://visitvanwert.com/wp-content/uploads/2026/04/Feel-Good-Friday-2026-lineup.jpg
END:VEVENT
BEGIN:VEVENT
DTSTART;TZID=UTC:20260724T193000
DTEND;TZID=UTC:20260724T213000
DTSTAMP:20260421T123442
CREATED:20260408T195034Z
LAST-MODIFIED:20260408T195034Z
UID:10002971-1784921400-1784928600@visitvanwert.com
SUMMARY:Van Wert LIVE presents Feel Good Friday with "Dave Matthews Tribute Band"
DESCRIPTION:
URL:https://visitvanwert.com/event/van-wert-live-presents-feel-good-friday-with-dave-matthews-tribute-band/
LOCATION:Fountain Park\, Van Wert\, Ohio\, 45891
ATTACH;FMTTYPE=image/jpeg:https://visitvanwert.com/wp-content/uploads/2026/04/Feel-Good-Friday-2026-lineup.jpg
END:VEVENT
END:VCALENDAR